BEGIN:VCALENDAR
VERSION:2.0
PRODID:-//wp-events-plugin.com//7.2.3.1//EN
TZID:Europe/Paris
X-WR-TIMEZONE:Europe/Paris
BEGIN:VEVENT
UID:16@dainmuralautre.org
DTSTART;TZID=Europe/Paris:20241016T180000
DTEND;TZID=Europe/Paris:20241016T220000
DTSTAMP:20241013T110729Z
URL:https://www.dainmuralautre.org/events/formation-manip-canyon/
SUMMARY:formation manip canyon
DESCRIPTION:Soirée de formation manip corde canyon\n\nvoir post forum
ATTACH;FMTTYPE=image/jpeg:https://www.dainmuralautre.org/wp-content/upload
 s/2023/11/20231119_100026.jpg
CATEGORIES:formation,Vie du club
END:VEVENT
BEGIN:VTIMEZONE
TZID:Europe/Paris
X-LIC-LOCATION:Europe/Paris
BEGIN:DAYLIGHT
DTSTART:20240331T030000
TZOFFSETFROM:+0100
TZOFFSETTO:+0200
TZNAME:CEST
END:DAYLIGHT
END:VTIMEZONE
END:VCALENDAR